Workbook
Name IQ_CH: 110000
Name IQ_CQ: 5000
Name IQ_CY: 10000
Name IQ_DAILY: 500000
Name IQ_FH: 100000
Name IQ_FQ: 500
Name IQ_FY: 1000
Name IQ_LTM: 2000
Name IQ_MONTH: 15000
Name IQ_NTM: 6000
Name IQ_WEEK: 50000
Name IQ_YTD: 3000

Sheet Comparison of 2026 vs. 2025
C1: CAISO PUBLIC
C2: All values in $ million unless otherwise noted
C5: In the first year of the current model, the estimate for 2026 HV Base Transmission Revenue Requirement (TRR) is $130.3M higher than the forecasted 2026 HV Base TRR from the previous model.
C6: This difference grows by approximately 3% year-over-year and is due to an increase on average in HV Base TRR for the 5 largest PTOs.
C8: HV Base TRR | D8: 2025 | E8: =D8+1 -> 2026 | F8: =E8+1 -> 2027 | G8: =F8+1 -> 2028 | H8: =G8+1 -> 2029 | I8: =H8+1 -> 2030 | J8: =I8+1 -> 2031 | K8: =J8+1 -> 2032 | L8: =K8+1 -> 2033 | ... S8: =R8+1 -> 2040
C9: Current Model
C10: 5 Largest PTOs* | E10: =Existing!I221 -> 3071.2082 | F10: =Existing!J221 -> 3078.1218 | G10: =Existing!K221 -> 3091.4568 | H10: =Existing!L221 -> 3105.0586 | I10: =Existing!M221 -> 3118.9324 | J10: =Existing!N221 -> 3133.0836 | K10: =Existing!O221 -> 3147.5179 | L10: =Existing!P221 -> 3162.2408 | ... S10: =Existing!W221 -> 3273.8846
C11: Other PTOs | E11: =Existing!I222 -> 371.89839 | F11: =Existing!J222 -> 379.33635 | G11: =Existing!K222 -> 386.92308 | H11: =Existing!L222 -> 394.66154 | I11: =Existing!M222 -> 402.55477 | J11: =Existing!N222 -> 410.60587 | K11: =Existing!O222 -> 418.81799 | L11: =Existing!P222 -> 427.19435 | ... S11: =Existing!W222 -> 490.71202
C12: Total | E12: =SUM(E10:E11) -> 3443.1065 | F12: =SUM(F10:F11) -> 3457.4582 | G12: =SUM(G10:G11) -> 3478.3799 | H12: =SUM(H10:H11) -> 3499.7201 | I12: =SUM(I10:I11) -> 3521.4871 | J12: =SUM(J10:J11) -> 3543.6895 | K12: =SUM(K10:K11) -> 3566.3359 | L12: =SUM(L10:L11) -> 3589.4352 | ... S12: =SUM(S10:S11) -> 3764.5966
C14: Previous Model
C15: 5 Largest PTOs* | D15: 2911.0232 | E15: 2920.0386 | F15: 2929.2343 | G15: 2938.6139 | H15: 2948.1811 | I15: 2957.9397 | J15: 2967.8934 | K15: 2978.0462 | L15: 2988.402 | M15: 2998.965 | N15: 3009.7392 | O15: 3020.7289 | P15: 3031.9384 | Q15: 3043.3721 | R15: 3055.0345
C16: Other PTOS | D16: 385.05884 | E16: 392.76001 | F16: 400.61521 | G16: 408.62752 | H16: 416.80007 | I16: 425.13607 | J16: 433.63879 | K16: 442.31157 | L16: 451.1578 | M16: 460.18095 | N16: 469.38457 | O16: 478.77227 | P16: 488.34771 | Q16: 498.11466 | R16: 508.07696
C17: Total | D17: 3296.0821 | E17: 3312.7986 | F17: 3329.8495 | G17: 3347.2414 | H17: 3364.9812 | I17: 3383.0757 | J17: 3401.5322 | K17: 3420.3577 | L17: 3439.5598 | M17: 3459.1459 | N17: 3479.1238 | O17: 3499.5012 | P17: 3520.2861 | Q17: 3541.4868 | R17: 3563.1114
C19: Difference
C20: Subtotal | E20: =E10-E15 -> 151.16953 | F20: =F10-F15 -> 148.88749 | G20: =G10-G15 -> 152.84292 | H20: =H10-H15 -> 156.87745 | I20: =I10-I15 -> 160.99268 | J20: =J10-J15 -> 165.19022 | K20: =K10-K15 -> 169.4717 | L20: =L10-L15 -> 173.83881 | ... R20: =R10-R15 -> 201.93806
C21: Other PTOs | E21: =E11-E16 -> -20.861627 | F21: =F11-F16 -> -21.278859 | G21: =G11-G16 -> -21.704436 | H21: =H11-H16 -> -22.138525 | I21: =I11-I16 -> -22.581296 | J21: =J11-J16 -> -23.032922 | K21: =K11-K16 -> -23.49358 | L21: =L11-L16 -> -23.963452 | ... R21: =R11-R16 -> -26.986739
C22: Total | E22: =E12-E17 -> 130.3079 | F22: =F12-F17 -> 127.60863 | G22: =G12-G17 -> 131.13848 | H22: =H12-H17 -> 134.73893 | I22: =I12-I17 -> 138.41139 | J22: =J12-J17 -> 142.15729 | K22: =K12-K17 -> 145.97812 | L22: =L12-L17 -> 149.87536 | ... R22: =R12-R17 -> 174.95132
C23: *Includes PG&E, SDG&E, SCE, Trans Bay Cable, and DATC Path 15
C25: The most significant changes in the HV Base TRR for this model compared to 2025 are highlighted in the table below and also explored in more detail on the 'HV Base TRR Supplementary' Tab
C27: Break out of HV Base TRR for 5 largest PTOs
D28: Previous Model | E28: Current Model | F28: Difference
D29: 2026 Projection | E29: 2026 Actual | F29: (Current - Previous) | G29: % Change
C30: PG&E | D30: 1006.0977 | E30: =Existing!I171 -> 906.9043 | F30: =E30-D30 -> -99.193378 | G30: =F30/D30 -> -0.098592195
C31: SCE | D31: 1279.3803 | E31: =Existing!I181 -> 1414.7739 | F31: =E31-D31 -> 135.3937 | G31: =F31/D31 -> 0.10582757
C32: SDG&E | D32: 495.66411 | E32: =Existing!I191 -> 599.326 | F32: =E32-D32 -> 103.66189 | G32: =F32/D32 -> 0.20913738
C33: DATC Path 15 | D33: 18.593825 | E33: =Existing!I201 -> 24.788905 | F33: =E33-D33 -> 6.1950795 | G33: =F33/D33 -> 0.3331794
C34: Trans Bay Cable | D34: 126.05106 | E34: =Existing!I211 -> 125.415 | F34: =E34-D34 -> -0.63606051 | G34: =F34/D34 -> -0.0050460544
C35: Subtotal | D35: =SUM(D30:D34) -> 2925.7869 | E35: =SUM(E30:E34) -> 3071.2082 | F35: =E35-D35 -> 145.42123 | G35: =F35/D35 -> 0.049703289
C38: In addition to a higher starting HV Base TRR for the 5 largest PTOs, the current model also includes a greater increase from HV Transmission Revenue Balancing Account Adjustments (TRBAA) for these PTOs.
C39: Of these PTOs, PG&E saw the greatest increase in TRBAA on a dollar basis, totaling $108.3M and representing a 60% increase compared to the forecasted 2026 TRBAA from the previous model.
C41: Break out of HV TRBAA for 5 largest PTOs
D42: Previous Model | E42: Current Model | F42: Difference
D43: 2026 Projection | E43: 2026 Actual | F43: (Current - Previous) | G43: % Change
C44: PG&E | D44: -180.55356 | E44: =Existing!I41 -> -72.266228 | F44: =E44-D44 -> 108.28734 | G44: =F44/ABS(D44) -> 0.59975186
C45: SCE | D45: -211.54737 | E45: =Existing!I42 -> -170.89739 | F45: =E45-D45 -> 40.649979 | G45: =F45/ABS(D45) -> 0.19215545
C46: SDG&E | D46: -50.218996 | E46: =Existing!I43 -> -39.987951 | F46: =E46-D46 -> 10.231045 | G46: =F46/ABS(D46) -> 0.20372859
C47: DATC Path 15 | D47: 0.794428 | E47: =Existing!I50 -> 1.661538 | F47: =E47-D47 -> 0.86711 | G47: =F47/ABS(D47) -> 1.0914897
C48: Trans Bay Cable | D48: 3.869521 | E48: =Existing!I52 -> 8.704544 | F48: =E48-D48 -> 4.835023 | G48: =F48/ABS(D48) -> 1.2495146
C49: Subtotal | D49: =SUM(D44:D48) -> -437.65598 | E49: =SUM(E44:E48) -> -272.78548 | F49: =E49-D49 -> 164.87049 | G49: =F49/ABS(D49) -> 0.37671254
C52: In addition to a higher HV Base TRR, greater TRBAA increases, and increased new project spending, the overall TAC charges are affected by differing load growth assumptions.
...

Sheet HV Base TRR Supplementary
C1: CAISO PUBLIC
C2: All values in $ million unless otherwise noted
C5: PG&E
C6: The decrease in PG&E's HV Base TRR between 2025 and 2026 is driven by decreases in several key categories.
C7: The greatest decreases from 2025 to 2026 are driven by the interest expenses on network upgrades and the depreciation rate adjustments
C8: A reduction in the cost of capital rate from 8.50% to 7.44% also serves to reduce the total return on capital
C9: These changes across the various categories are outlined in the following table:
C12: Break out of Select HV Base TRR Components
D13: 2025 | E13: 2026 | F13: Difference | G13: % Change
C14: Network Upgrade Interest Expense | D14: =6481277.4721373/1000000 -> 6.4812775 | E14: =240723.845519718/1000000 -> 0.24072385 | F14: =E14-D14 -> -6.2405536 | G14: =F14/D14 -> -0.96285858 | I14: TO21 Formula Model, Tab26-WholesaleTRRs, Line 202, HV only
C15: A&G Expense | D15: =66145633.1932239/1000000 -> 66.145633 | E15: =44437241.7493681/1000000 -> 44.437242 | F15: =E15-D15 -> -21.708391 | G15: =F15/D15 -> -0.32819085 | I15: TO21 Formula Model, Tab26-WholesaleTRRs, Line 201, HV only
C16: Depreciation Rate Adjustment | D16: =25207762.3804265/1000000 -> 25.207762 | E16: =769297.948250677/1000000 -> 0.76929795 | F16: =E16-D16 -> -24.438464 | G16: =F16/D16 -> -0.9694817 | I16: TO21 Formula Model, Tab26-WholesaleTRRs, Line 204, HV only
C17: Income Taxes | D17: =87910243.6864521/1000000 -> 87.910244 | E17: =73379868.7693214/1000000 -> 73.379869 | F17: =E17-D17 -> -14.530375 | G17: =F17/D17 -> -0.16528648 | I17: TO21 Formula Model, Tab26-WholesaleTRRs, Line 208, HV only
C18: Return on Capital | D18: =319209059.159294/1000000 -> 319.20906 | E18: =290307313.261933/1000000 -> 290.30731 | F18: =E18-D18 -> -28.901746 | G18: =F18/D18 -> -0.090541747 | I18: TO21 Formula Model, Tab26-WholesaleTRRs, Line 206, HV only
C19: Subtotal | D19: =SUM(D14:D18) -> 504.95398 | E19: =SUM(E14:E18) -> 409.13445 | F19: =E19-D19 -> -95.81953 | G19: =F19/D19 -> -0.18975894
C22: A less negative True-Up Adjustment1 as discussed in PG&E's draft Formula Rate Annual Update Filing is also included in this analysis
C23: The True-Up Adjustment arises from a shortfall or excess in revenue collected over the prior year.
C24: If the PTO collects excess revenue, the True-Up Adjustment will be negative, and the amount will be returned to customers.
C25: If the PTO collects a shortfall in revenue, the True-Up Adjustment will be positive, and the amount will be collected from customers.
C26: From 2025 to 2026, PG&E's True-Up Adjustment increased (became less negative) by $14.0M, as outlined in the following table:
C28: YoY Change in True-Up Adjustment
D29: 2025 | E29: 2026 | F29: Difference | G29: % Change
C30: True-Up Adjustment | D30: =-122214168.136137/1000000 -> -122.21417 | E30: =-108261990.721323/1000000 -> -108.26199 | F30: =E30-D30 -> 13.952177 | G30: =(E30 - D30) / ABS(D30) -> 0.1141617 | I30: TO21 Formula Model, Tab26-WholesaleTRRs, Line 216, HV only
C33: SCE
C34: The increase in SCE's HV Base TRR between 2025 and 2026 is driven by the increase in the True-Up Adjustment
C35: As discussed in SCE's draft Formula Rate Annual Update Filing,2 the company's True-Up Adjustment increased (became less negative) by $51.3M
C37: Break out of HV Base TRR Expenses
D38: 2025 | E38: 2026 | F38: Difference | G38: % Change
C39: True Up Adjustment | D39: =13247389.7789973/1000000 -> 13.24739 | E39: =64511621.4974007/1000000 -> 64.511621 | F39: =E39-D39 -> 51.264232 | G39: =(E39 - D39) / ABS(D39) -> 3.869761
C42: The True Up Adjustment arises from a shortfall or excess in revenue collected over the prior year.
C43: If the PTO collects excess revenue, the True Up Adjustment will be negative, and the amount will be returned to customers.
C44: If the PTO collects a shortfall in revenue, the True Up Adjustment will be positive, and the amount will be collected from customers.
C45: In the previous model, SCE had a shortfall in revenue leading to a positive True Up Adjustment (charge to customers) of $13.2M.
C46: In the current model, SCE experienced an even higher shortfall in revenue leading to a higher True Up Adjustment of $64.5M.
C47: Details of the True Up Adjustment are provided below:
C49: Break out of True Up Adjustment
D50: 2025 | E50: 2026 | F50: Difference | G50: % Change
C51: Shortfall or Excess Revenue in Prior Year | D51: =-121648458.993935/1000000 -> -121.64846 | E51: =70448685.6624879/1000000 -> 70.448686 | F51: =E51-D51 -> 192.09714 | G51: =IFERROR((E51-D51) / ABS(D51),0) -> 1.579117 | I51: TO2026 Annual Update, Attachment 1, Schedule 3 TrueUpAdjust, Line 26
C52: Previous Annual Update TU Adjustment | D52: =-133413458.797663/1000000 -> -133.41346 | E52: =13247389.7789973/1000000 -> 13.24739 | F52: =E52-D52 -> 146.66085 | G52: =IFERROR((E52-D52) / ABS(D52),0) -> 1.0992958 | I52: TO2026 Annual Update, Attachment 1, Schedule 3 TrueUpAdjust, Line 27
C53: TU Adjustment without Projected Interest | D53: =D51-D52 -> 11.765 | E53: =57201295.8834906/1000000 -> 57.201296 | F53: =E53-D53 -> 45.436296 | G53: =IFERROR((E53-D53) / ABS(D53),0) -> 3.8619887 | I53: TO2026 Annual Update, Attachment 1, Schedule 3 TrueUpAdjust, Line 28
...

Sheet Summary
A1: Summary | D1: CAISO PUBLIC
A2: ($ million)
F3: Reference | H3: 2025 | I3: =H3+1 -> 2026 | J3: =I3+1 -> 2027 | K3: =J3+1 -> 2028 | L3: =K3+1 -> 2029 | M3: =L3+1 -> 2030 | N3: =M3+1 -> 2031 | O3: =N3+1 -> 2032 | P3: =O3+1 -> 2033 | ... W3: =V3+1 -> 2040
A4: Line | E4: Column | H4: 0 | I4: 1 | J4: =I4+1 -> 2 | K4: =J4+1 -> 3 | L4: =K4+1 -> 4 | M4: =L4+1 -> 5 | N4: =M4+1 -> 6 | O4: =N4+1 -> 7 | P4: =O4+1 -> 8 | Q4: =P4+1 -> 9 | ... W4: =V4+1 -> 15
C6: HV Revenue Requirements
A7: 1 | D7: Existing Facilities | I7: =Existing!I119 -> 3185.3083 | J7: =Existing!J119 -> 3173.1983 | K7: =Existing!K119 -> 3193.9182 | L7: =Existing!L119 -> 3215.0544 | M7: =Existing!M119 -> 3236.6154 | N7: =Existing!N119 -> 3258.6097 | O7: =Existing!O119 -> 3281.0459 | P7: =Existing!P119 -> 3303.933 | ... W7: =Existing!W119 -> 3477.548
A8: =A7+1 -> 2 | D8: =Reliability!E1 -> Reliability | I8: =Reliability!I89 -> 21.277565 | J8: =Reliability!J89 -> 93.627995 | K8: =Reliability!K89 -> 350.24135 | L8: =Reliability!L89 -> 673.90672 | M8: =Reliability!M89 -> 855.4234 | N8: =Reliability!N89 -> 1034.5858 | O8: =Reliability!O89 -> 1163.5472 | P8: =Reliability!P89 -> 1276.9625 | ... W8: =Reliability!W89 -> 1301.1507
A9: =A8+1 -> 3 | D9: =WOD!E1 -> WOD | I9: =IFERROR(OFFSET(INDIRECT("'"&$D9&"'!G89"),0,MATCH(Summary!I$3,INDIRECT("'"&$D9&"'!$H$3:$W$3"),0)),H9) -> 0 | J9: =IFERROR(OFFSET(INDIRECT("'"&$D9&"'!G89"),0,MATCH(Summary!J$3,INDIRECT("'"&$D9&"'!$H$3:$W$3"),0)),I9) -> 0 | K9: =IFERROR(OFFSET(INDIRECT("'"&$D9&"'!G89"),0,MATCH(Summary!K$3,INDIRECT("'"&$D9&"'!$H$3:$W$3"),0)),J9) -> 0 | L9: =IFERROR(OFFSET(INDIRECT("'"&$D9&"'!G89"),0,MATCH(Summary!L$3,INDIRECT("'"&$D9&"'!$H$3:$W$3"),0)),K9) -> 0 | M9: =IFERROR(OFFSET(INDIRECT("'"&$D9&"'!G89"),0,MATCH(Summary!M$3,INDIRECT("'"&$D9&"'!$H$3:$W$3"),0)),L9) -> 0 | N9: =IFERROR(OFFSET(INDIRECT("'"&$D9&"'!G89"),0,MATCH(Summary!N$3,INDIRECT("'"&$D9&"'!$H$3:$W$3"),0)),M9) -> 0 | O9: =IFERROR(OFFSET(INDIRECT("'"&$D9&"'!G89"),0,MATCH(Summary!O$3,INDIRECT("'"&$D9&"'!$H$3:$W$3"),0)),N9) -> 0 | P9: =IFERROR(OFFSET(INDIRECT("'"&$D9&"'!G89"),0,MATCH(Summary!P$3,INDIRECT("'"&$D9&"'!$H$3:$W$3"),0)),O9) -> 0 | ... W9: =IFERROR(OFFSET(INDIRECT("'"&$D9&"'!G89"),0,MATCH(Summary!W$3,INDIRECT("'"&$D9&"'!$H$3:$W$3"),0)),V9) -> 0
A10: =A9+1 -> 4 | D10: ='2025-26 Policy and Econ'!E1 -> 2024-25 Policy and Econ | I10: ='2025-26 Policy and Econ'!I89 -> 21.632601 | J10: ='2025-26 Policy and Econ'!J89 -> 116.8343 | K10: ='2025-26 Policy and Econ'!K89 -> 306.68682 | L10: ='2025-26 Policy and Econ'!L89 -> 569.39716 | M10: ='2025-26 Policy and Econ'!M89 -> 811.06053 | N10: ='2025-26 Policy and Econ'!N89 -> 1012.7113 | O10: ='2025-26 Policy and Econ'!O89 -> 1272.5527 | P10: ='2025-26 Policy and Econ'!P89 -> 1498.1311 | ... W10: ='2025-26 Policy and Econ'!W89 -> 1552.3406
A11: =A10+1 -> 5 | D11: =ClrdoRvr!E1 -> ClrdoRvr | I11: =ClrdoRvr!I89 -> 0 | J11: =ClrdoRvr!J89 -> 0 | K11: =ClrdoRvr!K89 -> 0 | L11: =ClrdoRvr!L89 -> 0 | M11: =ClrdoRvr!M89 -> 0 | N11: =ClrdoRvr!N89 -> 0 | O11: =ClrdoRvr!O89 -> 0 | P11: =ClrdoRvr!P89 -> 0 | ... W11: =ClrdoRvr!W89 -> 0
A12: =A11+1 -> 6 | D12: ='Red Bluff 2AA Bank'!E1 -> Red Bluff 2nd 'AA' Bank | I12: ='Red Bluff 2AA Bank'!I89 -> 0 | J12: ='Red Bluff 2AA Bank'!J89 -> 0 | K12: ='Red Bluff 2AA Bank'!K89 -> 0 | L12: ='Red Bluff 2AA Bank'!L89 -> 0 | M12: ='Red Bluff 2AA Bank'!M89 -> 0 | N12: ='Red Bluff 2AA Bank'!N89 -> 0 | O12: ='Red Bluff 2AA Bank'!O89 -> 0 | P12: ='Red Bluff 2AA Bank'!P89 -> 0 | ... W12: ='Red Bluff 2AA Bank'!W89 -> 0
A13: =A12+1 -> 7 | D13: =Calcite!E1 -> Calcite | I13: =Calcite!I89 -> 0 | J13: =Calcite!J89 -> 2.160271 | K13: =Calcite!K89 -> 5.1894857 | L13: =Calcite!L89 -> 7.1708922 | M13: =Calcite!M89 -> 9.2808827 | N13: =Calcite!N89 -> 9.0438701 | O13: =Calcite!O89 -> 8.8202128 | P13: =Calcite!P89 -> 8.6075898 | ... W13: =Calcite!W89 -> 7.2279991
A14: =A13+1 -> 8 | D14: Total | I14: =SUM(I7:I13) -> 3228.2185 | J14: =SUM(J7:J13) -> 3385.8209 | K14: =SUM(K7:K13) -> 3856.0358 | L14: =SUM(L7:L13) -> 4465.5292 | M14: =SUM(M7:M13) -> 4912.3802 | N14: =SUM(N7:N13) -> 5314.9505 | O14: =SUM(O7:O13) -> 5725.966 | P14: =SUM(P7:P13) -> 6087.6342 | ... W14: =SUM(W7:W13) -> 6338.2673
A15: =A14+1 -> 9 | D15: Per Cent Increase | J15: =J14/I14-1 -> 0.048820245 | K15: =K14/J14-1 -> 0.13887767 | L15: =L14/K14-1 -> 0.15806216 | M15: =M14/L14-1 -> 0.10006676 | N15: =N14/M14-1 -> 0.081950163 | O15: =O14/N14-1 -> 0.077331941 | P15: =P14/O14-1 -> 0.063162834 | Q15: =Q14/P14-1 -> 0.043139954 | ... W15: =W14/V14-1 -> -0.0073053924
A17: =A15+1 -> 10 | C17: Gross Load (GWh) | I17: =Existing!I146 -> 204108.77 | J17: =Existing!J146 -> 208803.27 | K17: =Existing!K146 -> 213605.75 | L17: =Existing!L146 -> 218518.68 | M17: =Existing!M146 -> 223544.61 | N17: =Existing!N146 -> 228686.14 | O17: =Existing!O146 -> 233945.92 | P17: =Existing!P146 -> 239326.68 | ... W17: =Existing!W146 -> 280621.24
A18: =A17+1 -> 11 | D18: Per Cent Increase | J18: =J17/I17-1 -> 0.023 | K18: =K17/J17-1 -> 0.023 | L18: =L17/K17-1 -> 0.023 | M18: =M17/L17-1 -> 0.023 | N18: =N17/M17-1 -> 0.023 | O18: =O17/N17-1 -> 0.023 | P18: =P17/O17-1 -> 0.023 | Q18: =Q17/P17-1 -> 0.023 | ... W18: =W17/V17-1 -> 0.023
A20: =A18+1 -> 12 | C20: TAC Rate ($/MWh) | I20: =1000*I14/I17 -> 15.816167 | J20: =1000*J14/J17 -> 16.215363 | K20: =1000*K14/K17 -> 18.052116 | L20: =1000*L14/L17 -> 20.435457 | M20: =1000*M14/M17 -> 21.974943 | N20: =1000*N14/N17 -> 23.241245 | O20: =1000*O14/O17 -> 24.475597 | P20: =1000*P14/P17 -> 25.436505 | ... W20: =1000*W14/W17 -> 22.586555
A21: =A20+1 -> 13 | D21: Per Cent Increase | J21: =J20/I20-1 -> 0.025239731 | K21: =K20/J20-1 -> 0.1132724 | L21: =L20/K20-1 -> 0.13202557 | M21: =M20/L20-1 -> 0.075334074 | N21: =N20/M20-1 -> 0.057624792 | O21: =O20/N20-1 -> 0.053110402 | P21: =P20/O20-1 -> 0.039259857 | Q21: =Q20/P20-1 -> 0.01968715 | ... W21: =W20/V20-1 -> -0.02962404
A22: =A21+1 -> 14 | D22: Cumulative Per Cent Increase | J22: =J20/$I20-1 -> 0.025239731 | K22: =K20/$I20-1 -> 0.1413711 | L22: =L20/$I20-1 -> 0.29206127 | M22: =M20/$I20-1 -> 0.38939751 | N22: =N20/$I20-1 -> 0.46946125 | O22: =O20/$I20-1 -> 0.54750493 | P22: =P20/$I20-1 -> 0.60825975 | Q22: =Q20/$I20-1 -> 0.6399218 | ... W22: =W20/$I20-1 -> 0.42806756
D23: TAC Rate excluding existing facilities | I23: =1000*(I14-I7)/I17 -> 0.21023185 | J23: =1000*(J14-J7)/J17 -> 1.0182913 | K23: =1000*(K14-K7)/K17 -> 3.0997183 | L23: =1000*(L14-L7)/L17 -> 5.7225074 | M23: =1000*(M14-M7)/M17 -> 7.4963328 | N23: =1000*(N14-N7)/N17 -> 8.9919787 | O23: =1000*(O14-O7)/O17 -> 10.450792 | P23: =1000*(P14-P7)/P17 -> 11.631387 | ... W23: =1000*(W14-W7)/W17 -> 10.194236
C24: HV Gross Plant
A25: =A22+1 -> 15 | D25: =D7 -> Existing Facilities | I25: =Existing!I214 -> 23922.401 | J25: =Existing!J214 -> 24400.849 | K25: =Existing!K214 -> 24888.866 | L25: =Existing!L214 -> 25386.644 | M25: =Existing!M214 -> 25894.377 | N25: =Existing!N214 -> 26412.264 | O25: =Existing!O214 -> 26940.509 | P25: =Existing!P214 -> 27479.32 | ... W25: =Existing!W214 -> 31565.101
A26: =A25+1 -> 16 | D26: =D8 -> Reliability | I26: =Reliability!I$47 -> 164.80015 | J26: =Reliability!J$47 -> 679.73133 | K26: =Reliability!K$47 -> 2580.6392 | L26: =Reliability!L$47 -> 4690.3075 | M26: =Reliability!M$47 -> 6064.0449 | N26: =Reliability!N$47 -> 7375.5421 | O26: =Reliability!O$47 -> 8426.6924 | P26: =Reliability!P$47 -> 9361.3073 | ... W26: =Reliability!W$47 -> 11052.993
A27: =A26+1 -> 17 | D27: =D9 -> WOD | I27: =WOD!I$47 -> 0 | J27: =WOD!J$47 -> 0 | K27: =WOD!K$47 -> 0 | L27: =WOD!L$47 -> 0 | M27: =WOD!M$47 -> 0 | N27: =WOD!N$47 -> 0 | O27: =WOD!O$47 -> 0 | P27: =WOD!P$47 -> 0 | ... W27: =WOD!W$47 -> 0
A28: =A27+1 -> 18 | D28: =D10 -> 2024-25 Policy and Econ | I28: ='2025-26 Policy and Econ'!I$47 -> 167.55 | J28: ='2025-26 Policy and Econ'!J$47 -> 858.71184 | K28: ='2025-26 Policy and Econ'!K$47 -> 2194.8705 | L28: ='2025-26 Policy and Econ'!L$47 -> 4046.577 | M28: ='2025-26 Policy and Econ'!M$47 -> 5719.2949 | N28: ='2025-26 Policy and Econ'!N$47 -> 7251.4471 | O28: ='2025-26 Policy and Econ'!O$47 -> 9191.2075 | P28: ='2025-26 Policy and Econ'!P$47 -> 10871.163 | ... W28: ='2025-26 Policy and Econ'!W$47 -> 13052.798
A29: =A28+1 -> 19 | D29: =D11 -> ClrdoRvr | I29: =ClrdoRvr!I47 -> 0 | J29: =ClrdoRvr!J47 -> 0 | K29: =ClrdoRvr!K47 -> 0 | L29: =ClrdoRvr!L47 -> 0 | M29: =ClrdoRvr!M47 -> 0 | N29: =ClrdoRvr!N47 -> 0 | O29: =ClrdoRvr!O47 -> 0 | P29: =ClrdoRvr!P47 -> 0 | ... W29: =ClrdoRvr!W47 -> 0
A30: =A29+1 -> 20 | D30: =D12 -> Red Bluff 2nd 'AA' Bank | I30: ='Red Bluff 2AA Bank'!I$47 -> 0 | J30: ='Red Bluff 2AA Bank'!J$47 -> 0 | K30: ='Red Bluff 2AA Bank'!K$47 -> 0 | L30: ='Red Bluff 2AA Bank'!L$47 -> 0 | M30: ='Red Bluff 2AA Bank'!M$47 -> 0 | N30: ='Red Bluff 2AA Bank'!N$47 -> 0 | O30: ='Red Bluff 2AA Bank'!O$47 -> 0 | P30: ='Red Bluff 2AA Bank'!P$47 -> 0 | ... W30: ='Red Bluff 2AA Bank'!W$47 -> 0
A31: =A30+1 -> 21 | D31: =D13 -> Calcite | I31: =Calcite!I$47 -> 0 | J31: =Calcite!J$47 -> 16.731848 | K31: =Calcite!K$47 -> 35.580316 | L31: =Calcite!L$47 -> 51.349916 | M31: =Calcite!M$47 -> 65.002896 | N31: =Calcite!N$47 -> 65.002896 | O31: =Calcite!O$47 -> 65.002896 | P31: =Calcite!P$47 -> 65.002896 | ... W31: =Calcite!W$47 -> 65.002896
A32: =A31+1 -> 22 | D32: =D14 -> Total | I32: =SUM(I25:I31) -> 24254.752 | J32: =SUM(J25:J31) -> 25956.024 | K32: =SUM(K25:K31) -> 29699.956 | L32: =SUM(L25:L31) -> 34174.878 | M32: =SUM(M25:M31) -> 37742.719 | N32: =SUM(N25:N31) -> 41104.256 | O32: =SUM(O25:O31) -> 44623.412 | P32: =SUM(P25:P31) -> 47776.793 | ... W32: =SUM(W25:W31) -> 55735.895
A33: =A32+1 -> 23 | E33: Per Cent Increase | J33: =J32/I32-1 -> 0.070141839 | K33: =K32/J32-1 -> 0.14424135 | L33: =L32/K32-1 -> 0.15067099 | M33: =M32/L32-1 -> 0.10439953 | N33: =N32/M32-1 -> 0.089064516 | O33: =O32/N32-1 -> 0.085615366 | P33: =P32/O32-1 -> 0.0706665 | Q33: =Q32/P32-1 -> 0.055011634 | ... W33: =W32/V32-1 -> 0.011229273
C35: HV Rate Base
A36: =A33+1 -> 24 | D36: =D7 -> Existing Facilities | I36: =Existing!I215 -> 13948.438 | J36: =Existing!J215 -> 13733.252 | K36: =Existing!K215 -> 13513.762 | L36: =Existing!L215 -> 13289.882 | M36: =Existing!M215 -> 13061.525 | N36: =Existing!N215 -> 12828.601 | O36: =Existing!O215 -> 12591.018 | P36: =Existing!P215 -> 12348.683 | ... W36: =Existing!W215 -> 10511.068
A37: =A36+1 -> 25 | D37: =D8 -> Reliability | I37: =Reliability!I$80 -> 161.29849 | J37: =Reliability!J$80 -> 658.47252 | K37: =Reliability!K$80 -> 2491.2341 | L37: =Reliability!L$80 -> 4451.1389 | M37: =Reliability!M$80 -> 5608.9123 | N37: =Reliability!N$80 -> 6658.4155 | O37: =Reliability!O$80 -> 7410.2896 | P37: =Reliability!P$80 -> 8017.3819 | ... W37: =Reliability!W$80 -> 7151.7924
A38: =A37+1 -> 26 | D38: =D9 -> WOD | I38: =WOD!I$80 -> 0 | J38: =WOD!J$80 -> 0 | K38: =WOD!K$80 -> 0 | L38: =WOD!L$80 -> 0 | M38: =WOD!M$80 -> 0 | N38: =WOD!N$80 -> 0 | O38: =WOD!O$80 -> 0 | P38: =WOD!P$80 -> 0 | ... W38: =WOD!W$80 -> 0
A39: =A38+1 -> 27 | D39: =D10 -> 2024-25 Policy and Econ | I39: ='2025-26 Policy and Econ'!I$80 -> 163.98991 | J39: ='2025-26 Policy and Econ'!J$80 -> 833.53634 | K39: ='2025-26 Policy and Econ'!K$80 -> 2106.1521 | L39: ='2025-26 Policy and Econ'!L$80 -> 3829.924 | M39: ='2025-26 Policy and Econ'!M$80 -> 5306.4688 | N39: ='2025-26 Policy and Econ'!N$80 -> 6584.3692 | O39: ='2025-26 Policy and Econ'!O$80 -> 8208.7043 | P39: ='2025-26 Policy and Econ'!P$80 -> 9511.1293 | ... W39: ='2025-26 Policy and Econ'!W$80 -> 8618.2169
A40: =A39+1 -> 28 | D40: =D11 -> ClrdoRvr | I40: =ClrdoRvr!I$80 -> 0 | J40: =ClrdoRvr!J$80 -> 0 | K40: =ClrdoRvr!K$80 -> 0 | L40: =ClrdoRvr!L$80 -> 0 | M40: =ClrdoRvr!M$80 -> 0 | N40: =ClrdoRvr!N$80 -> 0 | O40: =ClrdoRvr!O$80 -> 0 | P40: =ClrdoRvr!P$80 -> 0 | ... W40: =ClrdoRvr!W$80 -> 0
A41: =A40+1 -> 29 | D41: =D12 -> Red Bluff 2nd 'AA' Bank | I41: ='Red Bluff 2AA Bank'!I$80 -> 0 | J41: ='Red Bluff 2AA Bank'!J$80 -> 0 | K41: ='Red Bluff 2AA Bank'!K$80 -> 0 | L41: ='Red Bluff 2AA Bank'!L$80 -> 0 | M41: ='Red Bluff 2AA Bank'!M$80 -> 0 | N41: ='Red Bluff 2AA Bank'!N$80 -> 0 | O41: ='Red Bluff 2AA Bank'!O$80 -> 0 | P41: ='Red Bluff 2AA Bank'!P$80 -> 0 | ... W41: ='Red Bluff 2AA Bank'!W$80 -> 0
A42: =A41+1 -> 30 | D42: =D13 -> Calcite | I42: =Calcite!I$80 -> 0 | J42: =Calcite!J$80 -> 16.376331 | K42: =Calcite!K$80 -> 34.132301 | L42: =Calcite!L$80 -> 48.131505 | M42: =Calcite!M$80 -> 59.480414 | N42: =Calcite!N$80 -> 57.002416 | O42: =Calcite!O$80 -> 54.644973 | P42: =Calcite!P$80 -> 52.386168 | ... W42: =Calcite!W$80 -> 37.445552
A43: =A42+1 -> 31 | D43: =D14 -> Total | I43: =SUM(I36:I42) -> 14273.726 | J43: =SUM(J36:J42) -> 15241.637 | K43: =SUM(K36:K42) -> 18145.28 | L43: =SUM(L36:L42) -> 21619.077 | M43: =SUM(M36:M42) -> 24036.387 | N43: =SUM(N36:N42) -> 26128.388 | O43: =SUM(O36:O42) -> 28264.657 | P43: =SUM(P36:P42) -> 29929.581 | ... W43: =SUM(W36:W42) -> 26318.523
A44: =A43+1 -> 32 | E44: Per Cent Increase | J44: =J43/I43-1 -> 0.067810655 | K44: =K43/J43-1 -> 0.19050732 | L44: =L43/K43-1 -> 0.19144353 | M44: =M43/L43-1 -> 0.11181374 | N44: =N43/M43-1 -> 0.087034762 | O44: =O43/N43-1 -> 0.08176046 | P44: =P43/O43-1 -> 0.058904798 | Q44: =Q43/P43-1 -> 0.035221671 | ... W44: =W43/V43-1 -> -0.039073249
...

Sheet Existing
A1: January 1, 2025 ISO Access Charge Rate | F1: CAISO PUBLIC
A2: ($ million)
F3: Reference | H3: 2025 | I3: =H3+1 -> 2026 | J3: =I3+1 -> 2027 | K3: =J3+1 -> 2028 | L3: =K3+1 -> 2029 | M3: =L3+1 -> 2030 | N3: =M3+1 -> 2031 | O3: =N3+1 -> 2032 | P3: =O3+1 -> 2033 | ... W3: =V3+1 -> 2040
A4: Line | E4: Column | H4: 0 | I4: 1 | J4: =I4+1 -> 2 | K4: =J4+1 -> 3 | L4: =K4+1 -> 4 | M4: =L4+1 -> 5 | N4: =M4+1 -> 6 | O4: =N4+1 -> 7 | P4: =O4+1 -> 8 | Q4: =P4+1 -> 9 | ... W4: =V4+1 -> 15
C6: Forecast Assumptions:
A7: 1 | D7: Non-ISO Gross Capital Growth Rate | F7: 0.02 | J7: =$F7 -> 0.02 | K7: =$F7 -> 0.02 | L7: =$F7 -> 0.02 | M7: =$F7 -> 0.02 | N7: =$F7 -> 0.02 | O7: =$F7 -> 0.02 | P7: =$F7 -> 0.02 | Q7: =$F7 -> 0.02 | ... W7: =$F7 -> 0.02
A8: =A7+1 -> 2 | D8: O&M Escalation Rate (%) | F8: 0.02 | J8: =$F8 -> 0.02 | K8: =$F8 -> 0.02 | L8: =$F8 -> 0.02 | M8: =$F8 -> 0.02 | N8: =$F8 -> 0.02 | O8: =$F8 -> 0.02 | P8: =$F8 -> 0.02 | Q8: =$F8 -> 0.02 | ... W8: =$F8 -> 0.02
A9: =A8+1 -> 3 | D9: HV TRBAA Escalation | F9: 0 | J9: =$F9 -> 0 | K9: =$F9 -> 0 | L9: =$F9 -> 0 | M9: =$F9 -> 0 | N9: =$F9 -> 0 | O9: =$F9 -> 0 | P9: =$F9 -> 0 | Q9: =$F9 -> 0 | ... W9: =$F9 -> 0
A10: =A9+1 -> 4 | D10: HV Standby Credit Escalation | F10: 0.01 | J10: =$F10 -> 0.01 | K10: =$F10 -> 0.01 | L10: =$F10 -> 0.01 | M10: =$F10 -> 0.01 | N10: =$F10 -> 0.01 | O10: =$F10 -> 0.01 | P10: =$F10 -> 0.01 | Q10: =$F10 -> 0.01 | ... W10: =$F10 -> 0.01
A11: =A10+1 -> 5 | D11: Gross Load Growth | F11: 0.023 | J11: =$F11 -> 0.023 | K11: =$F11 -> 0.023 | L11: =$F11 -> 0.023 | M11: =$F11 -> 0.023 | N11: =$F11 -> 0.023 | O11: =$F11 -> 0.023 | P11: =$F11 -> 0.023 | Q11: =$F11 -> 0.023 | ... W11: =$F11 -> 0.023
C13: HV Base TRR
A14: =A11+1 -> 6 | D14: PG&E | I14: 906.9043 | K14: CAISO January 30, 2026 TAC Rates (updated as of February 20, 2026)
A15: =A14+1 -> 7 | D15: SCE | I15: 1414.7739 | K15: CAISO January 30, 2026 TAC Rates (updated as of February 20, 2026)
A16: =A15+1 -> 8 | D16: SDG&E | I16: 599.326 | K16: CAISO January 30, 2026 TAC Rates (updated as of February 20, 2026)
A17: =A16+1 -> 9 | D17: Anaheim | I17: 32.2 | K17: CAISO January 30, 2026 TAC Rates (updated as of February 20, 2026)
A18: =A17+1 -> 10 | D18: Azusa | I18: 1.066676 | K18: CAISO January 30, 2026 TAC Rates (updated as of February 20, 2026)
A19: =A18+1 -> 11 | D19: Banning | I19: 0.729511 | K19: CAISO January 30, 2026 TAC Rates (updated as of February 20, 2026)
A20: =A19+1 -> 12 | D20: Pasadena | I20: 16.13855 | K20: CAISO January 30, 2026 TAC Rates (updated as of February 20, 2026)
A21: =A20+1 -> 13 | D21: Riverside | I21: 25.165197 | K21: CAISO January 30, 2026 TAC Rates (updated as of February 20, 2026)
A22: =A21+1 -> 14 | D22: Vernon | I22: 0 | K22: CAISO January 30, 2026 TAC Rates (updated as of February 20, 2026)
A23: =A22+1 -> 15 | D23: DATC Path 15 | I23: 24.788905 | K23: CAISO January 30, 2026 TAC Rates (updated as of February 20, 2026)
A24: =A23+1 -> 16 | D24: Startrans IO | I24: 2.95 | K24: CAISO January 30, 2026 TAC Rates (updated as of February 20, 2026)
A25: =A24+1 -> 17 | D25: Trans Bay Cable | I25: 125.415 | K25: CAISO January 30, 2026 TAC Rates (updated as of February 20, 2026)
A26: =A25+1 -> 18 | D26: Citizens Sunrise | I26: 15.352924 | K26: CAISO January 30, 2026 TAC Rates (updated as of February 20, 2026)
... A37: =A36+1 -> 29 | D37: LS Power Grid | I37: 26.261655 | K37: CAISO January 30, 2026 TAC Rates (updated as of February 20, 2026)
A38: =A37+1 -> 30 | D38: Total | I38: =SUM(I14:I37) -> 3469.3682 | J38: =J223 -> 3457.4582 | K38: =K223 -> 3478.3799 | L38: =L223 -> 3499.7201 | M38: =M223 -> 3521.4871 | N38: =N223 -> 3543.6895 | O38: =O223 -> 3566.3359 | P38: =P223 -> 3589.4352 | Q38: =Q223 -> 3612.9965 | ... W38: =W223 -> 3764.5966
I39: =(I14+I15+I16+I23+I25)/I38 -> 0.88523558
C40: HV TRBAA
A41: =A38+1 -> 31 | D41: =D14 -> PG&E | I41: -72.266228 | K41: CAISO January 30, 2026 TAC Rates (updated as of February 20, 2026)
A42: =A41+1 -> 32 | D42: =D15 -> SCE | I42: -170.89739 | K42: CAISO January 30, 2026 TAC Rates (updated as of February 20, 2026)
A43: =A42+1 -> 33 | D43: =D16 -> SDG&E | I43: -39.987951 | K43: CAISO January 30, 2026 TAC Rates (updated as of February 20, 2026)
A44: =A43+1 -> 34 | D44: =D17 -> Anaheim | I44: -0.815588 | K44: CAISO January 30, 2026 TAC Rates (updated as of February 20, 2026)
A45: =A44+1 -> 35 | D45: =D18 -> Azusa | I45: -0.005042 | K45: CAISO January 30, 2026 TAC Rates (updated as of February 20, 2026)
A46: =A45+1 -> 36 | D46: =D19 -> Banning | I46: -0.038323 | K46: CAISO January 30, 2026 TAC Rates (updated as of February 20, 2026)
A47: =A46+1 -> 37 | D47: =D20 -> Pasadena | I47: -0.735004 | K47: CAISO January 30, 2026 TAC Rates (updated as of February 20, 2026)
A48: =A47+1 -> 38 | D48: =D21 -> Riverside | I48: -0.893931 | K48: CAISO January 30, 2026 TAC Rates (updated as of February 20, 2026)
A49: =A48+1 -> 39 | D49: =D22 -> Vernon | I49: 0 | K49: CAISO January 30, 2026 TAC Rates (updated as of February 20, 2026)
A50: =A49+1 -> 40 | D50: =D23 -> DATC Path 15 | I50: 1.661538 | K50: CAISO January 30, 2026 TAC Rates (updated as of February 20, 2026)
A51: =A50+1 -> 41 | D51: =D24 -> Startrans IO | I51: 0.098563 | K51: CAISO January 30, 2026 TAC Rates (updated as of February 20, 2026)
A52: =A51+1 -> 42 | D52: =D25 -> Trans Bay Cable | I52: 8.704544 | K52: CAISO January 30, 2026 TAC Rates (updated as of February 20, 2026)
...

Sheet Reliability
A1: Project: | E1: Reliability | F1: CAISO PUBLIC
A2: ($ million)
F3: Reference | H3: =Existing!H3 -> 2025 | I3: =Existing!I3 -> 2026 | J3: =Existing!J3 -> 2027 | K3: =Existing!K3 -> 2028 | L3: =Existing!L3 -> 2029 | M3: =Existing!M3 -> 2030 | N3: =Existing!N3 -> 2031 | O3: =Existing!O3 -> 2032 | ... W3: =Existing!W3 -> 2040
A4: Line | E4: Column | H4: 0 | I4: 1 | J4: =I4+1 -> 2 | K4: =J4+1 -> 3 | L4: =K4+1 -> 4 | M4: =L4+1 -> 5 | N4: =M4+1 -> 6 | O4: =N4+1 -> 7 | P4: =O4+1 -> 8 | Q4: =P4+1 -> 9 | ... W4: =V4+1 -> 15
C6: Forecast Assumptions:
A7: 1 | D7: In-Service Year (yyyy) | F7: 2020
A8: =A7+1 -> 2 | D8: Capital Expenditures (nominal $ millions) | H8: 0 | I8: 329.6003 | J8: 700.26205 | K8: 3101.5537 | L8: 1117.783 | M8: 1629.6918 | N8: 993.30267 | O8: 1108.9979 | P8: 760.23192 | Q8: 827.23 | R8: 280.32 | S8: 66.31 | T8: 70.71 | U8: 67 | V8: 0 | W8: 0
A10: =A8+1 -> 3 | D10: CWIP Carrying Cost (IDC or AFUDC) | F10: AFUDC
A11: =A10+1 -> 4 | D11: CWIP in Rate Base (Y or N) | F11: Y
A13: =A11+1 -> 5 | D13: Depreciation Rate (%) | F13: 0.025 | H13: =$F13 -> 0.025 | I13: =$F13 -> 0.025 | J13: =$F13 -> 0.025 | K13: =$F13 -> 0.025 | L13: =$F13 -> 0.025 | M13: =$F13 -> 0.025 | N13: =$F13 -> 0.025 | O13: =$F13 -> 0.025 | ... W13: =$F13 -> 0.025
A15: =A13+1 -> 6 | D15: Debt (% of Capital) | F15: 0.5 | I15: =$F15 -> 0.5 | J15: =$F15 -> 0.5 | K15: =$F15 -> 0.5 | L15: =$F15 -> 0.5 | M15: =$F15 -> 0.5 | N15: =$F15 -> 0.5 | O15: =$F15 -> 0.5 | P15: =$F15 -> 0.5 | ... W15: =$F15 -> 0.5
A16: =A15+1 -> 7 | D16: Cost of Debt (%) | F16: 0.06 | I16: =$F16 -> 0.06 | J16: =$F16 -> 0.06 | K16: =$F16 -> 0.06 | L16: =$F16 -> 0.06 | M16: =$F16 -> 0.06 | N16: =$F16 -> 0.06 | O16: =$F16 -> 0.06 | P16: =$F16 -> 0.06 | ... W16: =$F16 -> 0.06
A18: =A16+1 -> 8 | D18: Equity (% of Capital) | I18: =1-I15 -> 0.5 | J18: =1-J15 -> 0.5 | K18: =1-K15 -> 0.5 | L18: =1-L15 -> 0.5 | M18: =1-M15 -> 0.5 | N18: =1-N15 -> 0.5 | O18: =1-O15 -> 0.5 | P18: =1-P15 -> 0.5 | ... W18: =1-W15 -> 0.5
A19: =A18+1 -> 9 | D19: Cost of Equity (%) | F19: 0.11 | I19: =$F19 -> 0.11 | J19: =$F19 -> 0.11 | K19: =$F19 -> 0.11 | L19: =$F19 -> 0.11 | M19: =$F19 -> 0.11 | N19: =$F19 -> 0.11 | O19: =$F19 -> 0.11 | P19: =$F19 -> 0.11 | ... W19: =$F19 -> 0.11
A21: =A19+1 -> 10 | D21: Average Return Rate | I21: =I15*I16+I18*I19 -> 0.085 | J21: =J15*J16+J18*J19 -> 0.085 | K21: =K15*K16+K18*K19 -> 0.085 | L21: =L15*L16+L18*L19 -> 0.085 | M21: =M15*M16+M18*M19 -> 0.085 | N21: =N15*N16+N18*N19 -> 0.085 | O21: =O15*O16+O18*O19 -> 0.085 | P21: =P15*P16+P18*P19 -> 0.085 | ... W21: =W15*W16+W18*W19 -> 0.085
A23: =A21+1 -> 11 | D23: Federal Income Tax (MACRS 15-year) | I23: 0.05 | J23: =MAX(0.1*(1-SUM($I23:I23)),(1-SUM($I23:I23))/(16.5-J4)) -> 0.095 | K23: =MAX(0.1*(1-SUM($I23:J23)),(1-SUM($I23:J23))/(16.5-K4)) -> 0.0855 | L23: =MAX(0.1*(1-SUM($I23:K23)),(1-SUM($I23:K23))/(16.5-L4)) -> 0.07695 | M23: =MAX(0.1*(1-SUM($I23:L23)),(1-SUM($I23:L23))/(16.5-M4)) -> 0.069255 | N23: =MAX(0.1*(1-SUM($I23:M23)),(1-SUM($I23:M23))/(16.5-N4)) -> 0.0623295 | O23: =MAX(0.1*(1-SUM($I23:N23)),(1-SUM($I23:N23))/(16.5-O4)) -> 0.059049 | P23: =MAX(0.1*(1-SUM($I23:O23)),(1-SUM($I23:O23))/(16.5-P4)) -> 0.059049 | Q23: =MAX(0.1*(1-SUM($I23:P23)),(1-SUM($I23:P23))/(16.5-Q4)) -> 0.059049 | ... W23: =MAX(0.1*(1-SUM($I23:V23)),(1-SUM($I23:V23))/(16.5-W4)) -> 0.059049 | X23: =MAX(0.1*(1-SUM($I23:W23)),(1-SUM($I23:W23))/0.5)/2 -> 0.0295245
A24: =A23+1 -> 12 | D24: Deferred Federal Income Tax (Y or N) | F24: Y
A25: =A24+1 -> 13 | D25: Federal Income Tax Rate (%) | F25: 0.21 | H25: =$F25 -> 0.21 | I25: =$F25 -> 0.21 | J25: =$F25 -> 0.21 | K25: =$F25 -> 0.21 | L25: =$F25 -> 0.21 | M25: =$F25 -> 0.21 | N25: =$F25 -> 0.21 | O25: =$F25 -> 0.21 | ... W25: =$F25 -> 0.21
A27: =A25+1 -> 14 | D27: State Income Tax Declining Balance (%) | F27: 2
A28: =A27+1 -> 15 | D28: Deferred State Income Tax (Y or N) | F28: Y
A29: =A28+1 -> 16 | D29: State Income Tax Rate | F29: 0.0884 | H29: =$F29 -> 0.0884 | I29: =$F29 -> 0.0884 | J29: =$F29 -> 0.0884 | K29: =$F29 -> 0.0884 | L29: =$F29 -> 0.0884 | M29: =$F29 -> 0.0884 | N29: =$F29 -> 0.0884 | O29: =$F29 -> 0.0884 | ... W29: =$F29 -> 0.0884
A31: =A29+1 -> 17 | D31: O&M (% of Capital Additions) | F31: 0.02 | I31: =$F31 -> 0.02 | J31: =$F31 -> 0.02 | K31: =$F31 -> 0.02 | L31: =$F31 -> 0.02 | M31: =$F31 -> 0.02 | N31: =$F31 -> 0.02 | O31: =$F31 -> 0.02 | P31: =$F31 -> 0.02 | ... W31: =$F31 -> 0.02
A32: =A31+1 -> 18 | D32: O&M Escalation Rate (%) | F32: 0.02 | I32: =$F32 -> 0.02 | J32: =$F32 -> 0.02 | K32: =$F32 -> 0.02 | L32: =$F32 -> 0.02 | M32: =$F32 -> 0.02 | N32: =$F32 -> 0.02 | O32: =$F32 -> 0.02 | P32: =$F32 -> 0.02 | ... W32: =$F32 -> 0.02
C34: Construction Work in Progress
A35: =A32+1 -> 19 | D35: Opening Balance | H35: 0 | I35: =H39 -> 0 | J35: =I39 -> 0 | K35: =J39 -> 0 | L35: =K39 -> 0 | M35: =L39 -> 0 | N35: =M39 -> 0 | O35: =N39 -> 0 | P35: =O39 -> 0 | ... W35: =V39 -> 0
A36: =A35+1 -> 20 | D36: Capital Expenditures | H36: =H8 -> 0 | I36: =I8 -> 329.6003 | J36: =J8 -> 700.26205 | K36: =K8 -> 3101.5537 | L36: =L8 -> 1117.783 | M36: =M8 -> 1629.6918 | N36: =N8 -> 993.30267 | O36: =O8 -> 1108.9979 | ... W36: =W8 -> 0
A37: =A36+1 -> 21 | D37: =IF(F11="Y","N/A (CWIP in Rate Base)", IF(F10="IDC","Interest During Construction","AFUDC")) -> N/A (CWIP in Rate Base) | H37: =($F11="N")*((H3<$F7)*(H16*($F10="IDC")+H21*($F10="AFUDC"))*(H35+0.5*H36)+(H3>=$F7)*0.5*H35*(H16*($F10="IDC")+H21*($F10="AFUDC"))/(1+0.5*(H16*($F10="IDC")+H21*($F10="AFUDC")))) -> 0 | I37: =($F11="N")*((I3<$F7)*(I16*($F10="IDC")+I21*($F10="AFUDC"))*(I35+0.5*I36)+(I3>=$F7)*0.5*I35*(I16*($F10="IDC")+I21*($F10="AFUDC"))/(1+0.5*(I16*($F10="IDC")+I21*($F10="AFUDC")))) -> 0 | J37: =($F11="N")*((J3<$F7)*(J16*($F10="IDC")+J21*($F10="AFUDC"))*(J35+0.5*J36)+(J3>=$F7)*0.5*J35*(J16*($F10="IDC")+J21*($F10="AFUDC"))/(1+0.5*(J16*($F10="IDC")+J21*($F10="AFUDC")))) -> 0 | K37: =($F11="N")*((K3<$F7)*(K16*($F10="IDC")+K21*($F10="AFUDC"))*(K35+0.5*K36)+(K3>=$F7)*0.5*K35*(K16*($F10="IDC")+K21*($F10="AFUDC"))/(1+0.5*(K16*($F10="IDC")+K21*($F10="AFUDC")))) -> 0 | L37: =($F11="N")*((L3<$F7)*(L16*($F10="IDC")+L21*($F10="AFUDC"))*(L35+0.5*L36)+(L3>=$F7)*0.5*L35*(L16*($F10="IDC")+L21*($F10="AFUDC"))/(1+0.5*(L16*($F10="IDC")+L21*($F10="AFUDC")))) -> 0 | M37: =($F11="N")*((M3<$F7)*(M16*($F10="IDC")+M21*($F10="AFUDC"))*(M35+0.5*M36)+(M3>=$F7)*0.5*M35*(M16*($F10="IDC")+M21*($F10="AFUDC"))/(1+0.5*(M16*($F10="IDC")+M21*($F10="AFUDC")))) -> 0 | N37: =($F11="N")*((N3<$F7)*(N16*($F10="IDC")+N21*($F10="AFUDC"))*(N35+0.5*N36)+(N3>=$F7)*0.5*N35*(N16*($F10="IDC")+N21*($F10="AFUDC"))/(1+0.5*(N16*($F10="IDC")+N21*($F10="AFUDC")))) -> 0 | O37: =($F11="N")*((O3<$F7)*(O16*($F10="IDC")+O21*($F10="AFUDC"))*(O35+0.5*O36)+(O3>=$F7)*0.5*O35*(O16*($F10="IDC")+O21*($F10="AFUDC"))/(1+0.5*(O16*($F10="IDC")+O21*($F10="AFUDC")))) -> 0 | ... W37: =($F11="N")*((W3<$F7)*(W16*($F10="IDC")+W21*($F10="AFUDC"))*(W35+0.5*W36)+(W3>=$F7)*0.5*W35*(W16*($F10="IDC")+W21*($F10="AFUDC"))/(1+0.5*(W16*($F10="IDC")+W21*($F10="AFUDC")))) -> 0
A38: =A37+1 -> 22 | D38: Capital Additions | H38: =IF(H3>=$F7,-SUM(H35:H37),0) -> 0 | I38: =IF(I3>=$F7,-SUM(I35:I37),0) -> -329.6003 | J38: =IF(J3>=$F7,-SUM(J35:J37),0) -> -700.26205 | K38: =IF(K3>=$F7,-SUM(K35:K37),0) -> -3101.5537 | L38: =IF(L3>=$F7,-SUM(L35:L37),0) -> -1117.783 | M38: =IF(M3>=$F7,-SUM(M35:M37),0) -> -1629.6918 | N38: =IF(N3>=$F7,-SUM(N35:N37),0) -> -993.30267 | O38: =IF(O3>=$F7,-SUM(O35:O37),0) -> -1108.9979 | ... W38: =IF(W3>=$F7,-SUM(W35:W37),0) -> 0
A39: =A38+1 -> 23 | D39: Closing Balance | H39: =SUM(H35:H38) -> 0 | I39: =SUM(I35:I38) -> 0 | J39: =SUM(J35:J38) -> 0 | K39: =SUM(K35:K38) -> 0 | L39: =SUM(L35:L38) -> 0 | M39: =SUM(M35:M38) -> 0 | N39: =SUM(N35:N38) -> 0 | O39: =SUM(O35:O38) -> 0 | ... W39: =SUM(W35:W38) -> 0
A40: =A39+1 -> 24 | D40: Mid-Year Balance | H40: =(H35+H39)/2 -> 0 | I40: =(I35+I39)/2 -> 0 | J40: =(J35+J39)/2 -> 0 | K40: =(K35+K39)/2 -> 0 | L40: =(L35+L39)/2 -> 0 | M40: =(M35+M39)/2 -> 0 | N40: =(N35+N39)/2 -> 0 | O40: =(O35+O39)/2 -> 0 | ... W40: =(W35+W39)/2 -> 0
C42: Gross Plant
A43: =A40+1 -> 25 | D43: Opening Balance | H43: 0 | I43: =H46 -> 0 | J43: =I46 -> 329.6003 | K43: =J46 -> 1029.8623 | L43: =K46 -> 4131.416 | M43: =L46 -> 5249.199 | N43: =M46 -> 6878.8908 | O43: =N46 -> 7872.1935 | P43: =O46 -> 8981.1914 | ... W43: =V46 -> 11052.993
A44: =A43+1 -> 26 | D44: Capital Additions | H44: =-H38 -> 0 | I44: =-I38 -> 329.6003 | J44: =-J38 -> 700.26205 | K44: =-K38 -> 3101.5537 | L44: =-L38 -> 1117.783 | M44: =-M38 -> 1629.6918 | N44: =-N38 -> 993.30267 | O44: =-O38 -> 1108.9979 | ... W44: =-W38 -> 0
A45: =A44+1 -> 27 | D45: Retirements | H45: =IF((H43+H44)>(H50+H51),0,-(H43+H44)) -> 0 | I45: =IF((I43+I44)>(I50+I51),0,-(I43+I44)) -> 0 | J45: =IF((J43+J44)>(J50+J51),0,-(J43+J44)) -> 0 | K45: =IF((K43+K44)>(K50+K51),0,-(K43+K44)) -> 0 | L45: =IF((L43+L44)>(L50+L51),0,-(L43+L44)) -> 0 | M45: =IF((M43+M44)>(M50+M51),0,-(M43+M44)) -> 0 | N45: =IF((N43+N44)>(N50+N51),0,-(N43+N44)) -> 0 | O45: =IF((O43+O44)>(O50+O51),0,-(O43+O44)) -> 0 | ... W45: =IF((W43+W44)>(W50+W51),0,-(W43+W44)) -> 0
A46: =A45+1 -> 28 | D46: Closing Balance | H46: =SUM(H43:H45) -> 0 | I46: =SUM(I43:I45) -> 329.6003 | J46: =SUM(J43:J45) -> 1029.8623 | K46: =SUM(K43:K45) -> 4131.416 | L46: =SUM(L43:L45) -> 5249.199 | M46: =SUM(M43:M45) -> 6878.8908 | N46: =SUM(N43:N45) -> 7872.1935 | O46: =SUM(O43:O45) -> 8981.1914 | ... W46: =SUM(W43:W45) -> 11052.993
A47: =A46+1 -> 29 | D47: Mid-Year Balance | H47: =(H43+H46)/2 -> 0 | I47: =(I43+I46)/2 -> 164.80015 | J47: =(J43+J46)/2 -> 679.73133 | K47: =(K43+K46)/2 -> 2580.6392 | L47: =(L43+L46)/2 -> 4690.3075 | M47: =(M43+M46)/2 -> 6064.0449 | N47: =(N43+N46)/2 -> 7375.5421 | O47: =(O43+O46)/2 -> 8426.6924 | ... W47: =(W43+W46)/2 -> 11052.993
C49: Accumulated Depreciation
A50: =A47+1 -> 30 | D50: Opening Balance | H50: 0 | I50: =H53 -> 0 | J50: =I53 -> 4.1200038 | K50: =J53 -> 21.113287 | L50: =K53 -> 85.629266 | M50: =L53 -> 202.88695 | N50: =M53 -> 354.48808 | O50: =N53 -> 538.87663 | P50: =O53 -> 749.54394 | ... W50: =V53 -> 2602.8042
A51: =A50+1 -> 31 | D51: Depreciation | H51: =MAX(H13*(H43+0.5*H44),0) -> 0 | I51: =MAX(I13*(I43+0.5*I44),0) -> 4.1200038 | J51: =MIN(J13*(J43+0.5*J44),J43+J44-I53) -> 16.993283 | K51: =MIN(K13*(K43+0.5*K44),K43+K44-J53) -> 64.51598 | L51: =MIN(L13*(L43+0.5*L44),L43+L44-K53) -> 117.25769 | M51: =MIN(M13*(M43+0.5*M44),M43+M44-L53) -> 151.60112 | N51: =MIN(N13*(N43+0.5*N44),N43+N44-M53) -> 184.38855 | O51: =MIN(O13*(O43+0.5*O44),O43+O44-N53) -> 210.66731 | P51: =MIN(P13*(P43+0.5*P44),P43+P44-O53) -> 234.03268 | Q51: =MIN(Q13*(Q43+0.5*Q44),Q43+Q44-P53) -> 253.87596 | ... W51: =MIN(W13*(W43+0.5*W44),W43+W44-V53) -> 276.32483
A52: =A51+1 -> 32 | D52: Retirements | H52: =H45 -> 0 | I52: =I45 -> 0 | J52: =J45 -> 0 | K52: =K45 -> 0 | L52: =L45 -> 0 | M52: =M45 -> 0 | N52: =N45 -> 0 | O52: =O45 -> 0 | ... W52: =W45 -> 0
...

Sheet 2025-26 Policy and Econ
A1: Project: | E1: 2024-25 Policy and Econ | F1: CAISO PUBLIC
A2: ($ million)
F3: Reference | H3: =Existing!H3 -> 2025 | I3: =Existing!I3 -> 2026 | J3: =Existing!J3 -> 2027 | K3: =Existing!K3 -> 2028 | L3: =Existing!L3 -> 2029 | M3: =Existing!M3 -> 2030 | N3: =Existing!N3 -> 2031 | O3: =Existing!O3 -> 2032 | ... W3: =Existing!W3 -> 2040
A4: Line | E4: Column | H4: 0 | I4: 1 | J4: =I4+1 -> 2 | K4: =J4+1 -> 3 | L4: =K4+1 -> 4 | M4: =L4+1 -> 5 | N4: =M4+1 -> 6 | O4: =N4+1 -> 7 | P4: =O4+1 -> 8 | Q4: =P4+1 -> 9 | ... W4: =V4+1 -> 15
C6: Forecast Assumptions:
A7: 1 | D7: In-Service Year (yyyy) | F7: 2020
A8: =A7+1 -> 2 | D8: Capital Expenditures (nominal $ millions) | H8: 0 | I8: 335.1 | J8: 1047.2237 | K8: 1625.0937 | L8: 2078.3192 | M8: 1267.1165 | N8: 1797.1879 | O8: 2082.3328 | P8: 1277.5777 | Q8: 1292.3465 | R8: 250.5 | S8: 0 | T8: 0 | U8: 0 | V8: 0 | W8: 0
A10: =A8+1 -> 3 | D10: CWIP Carrying Cost (IDC or AFUDC) | F10: AFUDC
A11: =A10+1 -> 4 | D11: CWIP in Rate Base (Y or N) | F11: Y
A13: =A11+1 -> 5 | D13: Depreciation Rate (%) | F13: 0.025 | H13: =$F13 -> 0.025 | I13: =$F13 -> 0.025 | J13: =$F13 -> 0.025 | K13: =$F13 -> 0.025 | L13: =$F13 -> 0.025 | M13: =$F13 -> 0.025 | N13: =$F13 -> 0.025 | O13: =$F13 -> 0.025 | ... W13: =$F13 -> 0.025
A15: =A13+1 -> 6 | D15: Debt (% of Capital) | F15: 0.5 | I15: =$F15 -> 0.5 | J15: =$F15 -> 0.5 | K15: =$F15 -> 0.5 | L15: =$F15 -> 0.5 | M15: =$F15 -> 0.5 | N15: =$F15 -> 0.5 | O15: =$F15 -> 0.5 | P15: =$F15 -> 0.5 | ... W15: =$F15 -> 0.5
A16: =A15+1 -> 7 | D16: Cost of Debt (%) | F16: 0.06 | I16: =$F16 -> 0.06 | J16: =$F16 -> 0.06 | K16: =$F16 -> 0.06 | L16: =$F16 -> 0.06 | M16: =$F16 -> 0.06 | N16: =$F16 -> 0.06 | O16: =$F16 -> 0.06 | P16: =$F16 -> 0.06 | ... W16: =$F16 -> 0.06
A18: =A16+1 -> 8 | D18: Equity (% of Capital) | I18: =1-I15 -> 0.5 | J18: =1-J15 -> 0.5 | K18: =1-K15 -> 0.5 | L18: =1-L15 -> 0.5 | M18: =1-M15 -> 0.5 | N18: =1-N15 -> 0.5 | O18: =1-O15 -> 0.5 | P18: =1-P15 -> 0.5 | ... W18: =1-W15 -> 0.5
A19: =A18+1 -> 9 | D19: Cost of Equity (%) | F19: 0.11 | I19: =$F19 -> 0.11 | J19: =$F19 -> 0.11 | K19: =$F19 -> 0.11 | L19: =$F19 -> 0.11 | M19: =$F19 -> 0.11 | N19: =$F19 -> 0.11 | O19: =$F19 -> 0.11 | P19: =$F19 -> 0.11 | ... W19: =$F19 -> 0.11
A21: =A19+1 -> 10 | D21: Average Return Rate | I21: =I15*I16+I18*I19 -> 0.085 | J21: =J15*J16+J18*J19 -> 0.085 | K21: =K15*K16+K18*K19 -> 0.085 | L21: =L15*L16+L18*L19 -> 0.085 | M21: =M15*M16+M18*M19 -> 0.085 | N21: =N15*N16+N18*N19 -> 0.085 | O21: =O15*O16+O18*O19 -> 0.085 | P21: =P15*P16+P18*P19 -> 0.085 | ... W21: =W15*W16+W18*W19 -> 0.085
A23: =A21+1 -> 11 | D23: Federal Income Tax (MACRS 15-year) | I23: 0.05 | J23: =MAX(0.1*(1-SUM($I23:I23)),(1-SUM($I23:I23))/(16.5-J4)) -> 0.095 | K23: =MAX(0.1*(1-SUM($I23:J23)),(1-SUM($I23:J23))/(16.5-K4)) -> 0.0855 | L23: =MAX(0.1*(1-SUM($I23:K23)),(1-SUM($I23:K23))/(16.5-L4)) -> 0.07695 | M23: =MAX(0.1*(1-SUM($I23:L23)),(1-SUM($I23:L23))/(16.5-M4)) -> 0.069255 | N23: =MAX(0.1*(1-SUM($I23:M23)),(1-SUM($I23:M23))/(16.5-N4)) -> 0.0623295 | O23: =MAX(0.1*(1-SUM($I23:N23)),(1-SUM($I23:N23))/(16.5-O4)) -> 0.059049 | P23: =MAX(0.1*(1-SUM($I23:O23)),(1-SUM($I23:O23))/(16.5-P4)) -> 0.059049 | Q23: =MAX(0.1*(1-SUM($I23:P23)),(1-SUM($I23:P23))/(16.5-Q4)) -> 0.059049 | ... W23: =MAX(0.1*(1-SUM($I23:V23)),(1-SUM($I23:V23))/(16.5-W4)) -> 0.059049 | X23: =MAX(0.1*(1-SUM($I23:W23)),(1-SUM($I23:W23))/0.5)/2 -> 0.0295245
A24: =A23+1 -> 12 | D24: Deferred Federal Income Tax (Y or N) | F24: Y
A25: =A24+1 -> 13 | D25: Federal Income Tax Rate (%) | F25: 0.21 | H25: =$F25 -> 0.21 | I25: =$F25 -> 0.21 | J25: =$F25 -> 0.21 | K25: =$F25 -> 0.21 | L25: =$F25 -> 0.21 | M25: =$F25 -> 0.21 | N25: =$F25 -> 0.21 | O25: =$F25 -> 0.21 | ... W25: =$F25 -> 0.21
A27: =A25+1 -> 14 | D27: State Income Tax Declining Balance (%) | F27: 2
A28: =A27+1 -> 15 | D28: Deferred State Income Tax (Y or N) | F28: Y
A29: =A28+1 -> 16 | D29: State Income Tax Rate | F29: 0.0884 | H29: =$F29 -> 0.0884 | I29: =$F29 -> 0.0884 | J29: =$F29 -> 0.0884 | K29: =$F29 -> 0.0884 | L29: =$F29 -> 0.0884 | M29: =$F29 -> 0.0884 | N29: =$F29 -> 0.0884 | O29: =$F29 -> 0.0884 | ... W29: =$F29 -> 0.0884
A31: =A29+1 -> 17 | D31: O&M (% of Capital Additions) | F31: 0.02 | I31: =$F31 -> 0.02 | J31: =$F31 -> 0.02 | K31: =$F31 -> 0.02 | L31: =$F31 -> 0.02 | M31: =$F31 -> 0.02 | N31: =$F31 -> 0.02 | O31: =$F31 -> 0.02 | P31: =$F31 -> 0.02 | ... W31: =$F31 -> 0.02
A32: =A31+1 -> 18 | D32: O&M Escalation Rate (%) | F32: 0.02 | I32: =$F32 -> 0.02 | J32: =$F32 -> 0.02 | K32: =$F32 -> 0.02 | L32: =$F32 -> 0.02 | M32: =$F32 -> 0.02 | N32: =$F32 -> 0.02 | O32: =$F32 -> 0.02 | P32: =$F32 -> 0.02 | ... W32: =$F32 -> 0.02
C34: Construction Work in Progress
A35: =A32+1 -> 19 | D35: Opening Balance | H35: 0 | I35: =H39 -> 0 | J35: =I39 -> 0 | K35: =J39 -> 0 | L35: =K39 -> 0 | M35: =L39 -> 0 | N35: =M39 -> 0 | O35: =N39 -> 0 | P35: =O39 -> 0 | ... W35: =V39 -> 0
A36: =A35+1 -> 20 | D36: Capital Expenditures | H36: =H8 -> 0 | I36: =I8 -> 335.1 | J36: =J8 -> 1047.2237 | K36: =K8 -> 1625.0937 | L36: =L8 -> 2078.3192 | M36: =M8 -> 1267.1165 | N36: =N8 -> 1797.1879 | O36: =O8 -> 2082.3328 | ... W36: =W8 -> 0
A37: =A36+1 -> 21 | D37: =IF(F11="Y","N/A (CWIP in Rate Base)", IF(F10="IDC","Interest During Construction","AFUDC")) -> N/A (CWIP in Rate Base) | H37: =($F11="N")*((H3<$F7)*(H16*($F10="IDC")+H21*($F10="AFUDC"))*(H35+0.5*H36)+(H3>=$F7)*0.5*H35*(H16*($F10="IDC")+H21*($F10="AFUDC"))/(1+0.5*(H16*($F10="IDC")+H21*($F10="AFUDC")))) -> 0 | I37: =($F11="N")*((I3<$F7)*(I16*($F10="IDC")+I21*($F10="AFUDC"))*(I35+0.5*I36)+(I3>=$F7)*0.5*I35*(I16*($F10="IDC")+I21*($F10="AFUDC"))/(1+0.5*(I16*($F10="IDC")+I21*($F10="AFUDC")))) -> 0 | J37: =($F11="N")*((J3<$F7)*(J16*($F10="IDC")+J21*($F10="AFUDC"))*(J35+0.5*J36)+(J3>=$F7)*0.5*J35*(J16*($F10="IDC")+J21*($F10="AFUDC"))/(1+0.5*(J16*($F10="IDC")+J21*($F10="AFUDC")))) -> 0 | K37: =($F11="N")*((K3<$F7)*(K16*($F10="IDC")+K21*($F10="AFUDC"))*(K35+0.5*K36)+(K3>=$F7)*0.5*K35*(K16*($F10="IDC")+K21*($F10="AFUDC"))/(1+0.5*(K16*($F10="IDC")+K21*($F10="AFUDC")))) -> 0 | L37: =($F11="N")*((L3<$F7)*(L16*($F10="IDC")+L21*($F10="AFUDC"))*(L35+0.5*L36)+(L3>=$F7)*0.5*L35*(L16*($F10="IDC")+L21*($F10="AFUDC"))/(1+0.5*(L16*($F10="IDC")+L21*($F10="AFUDC")))) -> 0 | M37: =($F11="N")*((M3<$F7)*(M16*($F10="IDC")+M21*($F10="AFUDC"))*(M35+0.5*M36)+(M3>=$F7)*0.5*M35*(M16*($F10="IDC")+M21*($F10="AFUDC"))/(1+0.5*(M16*($F10="IDC")+M21*($F10="AFUDC")))) -> 0 | N37: =($F11="N")*((N3<$F7)*(N16*($F10="IDC")+N21*($F10="AFUDC"))*(N35+0.5*N36)+(N3>=$F7)*0.5*N35*(N16*($F10="IDC")+N21*($F10="AFUDC"))/(1+0.5*(N16*($F10="IDC")+N21*($F10="AFUDC")))) -> 0 | O37: =($F11="N")*((O3<$F7)*(O16*($F10="IDC")+O21*($F10="AFUDC"))*(O35+0.5*O36)+(O3>=$F7)*0.5*O35*(O16*($F10="IDC")+O21*($F10="AFUDC"))/(1+0.5*(O16*($F10="IDC")+O21*($F10="AFUDC")))) -> 0 | ... W37: =($F11="N")*((W3<$F7)*(W16*($F10="IDC")+W21*($F10="AFUDC"))*(W35+0.5*W36)+(W3>=$F7)*0.5*W35*(W16*($F10="IDC")+W21*($F10="AFUDC"))/(1+0.5*(W16*($F10="IDC")+W21*($F10="AFUDC")))) -> 0
A38: =A37+1 -> 22 | D38: Capital Additions | H38: =IF(H3>=$F7,-SUM(H35:H37),0) -> 0 | I38: =IF(I3>=$F7,-SUM(I35:I37),0) -> -335.1 | J38: =IF(J3>=$F7,-SUM(J35:J37),0) -> -1047.2237 | K38: =IF(K3>=$F7,-SUM(K35:K37),0) -> -1625.0937 | L38: =IF(L3>=$F7,-SUM(L35:L37),0) -> -2078.3192 | M38: =IF(M3>=$F7,-SUM(M35:M37),0) -> -1267.1165 | N38: =IF(N3>=$F7,-SUM(N35:N37),0) -> -1797.1879 | O38: =IF(O3>=$F7,-SUM(O35:O37),0) -> -2082.3328 | ... W38: =IF(W3>=$F7,-SUM(W35:W37),0) -> 0
A39: =A38+1 -> 23 | D39: Closing Balance | H39: =SUM(H35:H38) -> 0 | I39: =SUM(I35:I38) -> 0 | J39: =SUM(J35:J38) -> 0 | K39: =SUM(K35:K38) -> 0 | L39: =SUM(L35:L38) -> 0 | M39: =SUM(M35:M38) -> 0 | N39: =SUM(N35:N38) -> 0 | O39: =SUM(O35:O38) -> 0 | ... W39: =SUM(W35:W38) -> 0
A40: =A39+1 -> 24 | D40: Mid-Year Balance | H40: =(H35+H39)/2 -> 0 | I40: =(I35+I39)/2 -> 0 | J40: =(J35+J39)/2 -> 0 | K40: =(K35+K39)/2 -> 0 | L40: =(L35+L39)/2 -> 0 | M40: =(M35+M39)/2 -> 0 | N40: =(N35+N39)/2 -> 0 | O40: =(O35+O39)/2 -> 0 | ... W40: =(W35+W39)/2 -> 0
C42: Gross Plant
A43: =A40+1 -> 25 | D43: Opening Balance | H43: 0 | I43: =H46 -> 0 | J43: =I46 -> 335.1 | K43: =J46 -> 1382.3237 | L43: =K46 -> 3007.4174 | M43: =L46 -> 5085.7366 | N43: =M46 -> 6352.8531 | O43: =N46 -> 8150.0411 | P43: =O46 -> 10232.374 | ... W43: =V46 -> 13052.798
A44: =A43+1 -> 26 | D44: Capital Additions | H44: =-H38 -> 0 | I44: =-I38 -> 335.1 | J44: =-J38 -> 1047.2237 | K44: =-K38 -> 1625.0937 | L44: =-L38 -> 2078.3192 | M44: =-M38 -> 1267.1165 | N44: =-N38 -> 1797.1879 | O44: =-O38 -> 2082.3328 | ... W44: =-W38 -> 0
A45: =A44+1 -> 27 | D45: Retirements | H45: =IF((H43+H44)>(H50+H51),0,-(H43+H44)) -> 0 | I45: =IF((I43+I44)>(I50+I51),0,-(I43+I44)) -> 0 | J45: =IF((J43+J44)>(J50+J51),0,-(J43+J44)) -> 0 | K45: =IF((K43+K44)>(K50+K51),0,-(K43+K44)) -> 0 | L45: =IF((L43+L44)>(L50+L51),0,-(L43+L44)) -> 0 | M45: =IF((M43+M44)>(M50+M51),0,-(M43+M44)) -> 0 | N45: =IF((N43+N44)>(N50+N51),0,-(N43+N44)) -> 0 | O45: =IF((O43+O44)>(O50+O51),0,-(O43+O44)) -> 0 | ... W45: =IF((W43+W44)>(W50+W51),0,-(W43+W44)) -> 0
A46: =A45+1 -> 28 | D46: Closing Balance | H46: =SUM(H43:H45) -> 0 | I46: =SUM(I43:I45) -> 335.1 | J46: =SUM(J43:J45) -> 1382.3237 | K46: =SUM(K43:K45) -> 3007.4174 | L46: =SUM(L43:L45) -> 5085.7366 | M46: =SUM(M43:M45) -> 6352.8531 | N46: =SUM(N43:N45) -> 8150.0411 | O46: =SUM(O43:O45) -> 10232.374 | ... W46: =SUM(W43:W45) -> 13052.798
A47: =A46+1 -> 29 | D47: Mid-Year Balance | H47: =(H43+H46)/2 -> 0 | I47: =(I43+I46)/2 -> 167.55 | J47: =(J43+J46)/2 -> 858.71184 | K47: =(K43+K46)/2 -> 2194.8705 | L47: =(L43+L46)/2 -> 4046.577 | M47: =(M43+M46)/2 -> 5719.2949 | N47: =(N43+N46)/2 -> 7251.4471 | O47: =(O43+O46)/2 -> 9191.2075 | ... W47: =(W43+W46)/2 -> 13052.798
C49: Accumulated Depreciation
A50: =A47+1 -> 30 | D50: Opening Balance | H50: 0 | I50: =H53 -> 0 | J50: =I53 -> 4.18875 | K50: =J53 -> 25.656546 | L50: =K53 -> 80.528309 | M50: =L53 -> 181.69273 | N50: =M53 -> 324.67511 | O50: =N53 -> 505.96128 | P50: =O53 -> 735.74147 | ... W50: =V53 -> 2939.8922
A51: =A50+1 -> 31 | D51: Depreciation | H51: =MAX(H13*(H43+0.5*H44),0) -> 0 | I51: =MAX(I13*(I43+0.5*I44),0) -> 4.18875 | J51: =MIN(J13*(J43+0.5*J44),J43+J44-I53) -> 21.467796 | K51: =MIN(K13*(K43+0.5*K44),K43+K44-J53) -> 54.871764 | L51: =MIN(L13*(L43+0.5*L44),L43+L44-K53) -> 101.16443 | M51: =MIN(M13*(M43+0.5*M44),M43+M44-L53) -> 142.98237 | N51: =MIN(N13*(N43+0.5*N44),N43+N44-M53) -> 181.28618 | O51: =MIN(O13*(O43+0.5*O44),O43+O44-N53) -> 229.78019 | P51: =MIN(P13*(P43+0.5*P44),P43+P44-O53) -> 271.77907 | Q51: =MIN(Q13*(Q43+0.5*Q44),Q43+Q44-P53) -> 303.90312 | ... W51: =MIN(W13*(W43+0.5*W44),W43+W44-V53) -> 326.31995
A52: =A51+1 -> 32 | D52: Retirements | H52: =H45 -> 0 | I52: =I45 -> 0 | J52: =J45 -> 0 | K52: =K45 -> 0 | L52: =L45 -> 0 | M52: =M45 -> 0 | N52: =N45 -> 0 | O52: =O45 -> 0 | ... W52: =W45 -> 0
...

Sheet WOD
A1: Project: | E1: WOD | F1: CAISO PUBLIC
A2: ($ million)
F3: Reference | H3: =Existing!H3 -> 2025 | I3: =Existing!I3 -> 2026 | J3: =Existing!J3 -> 2027 | K3: =Existing!K3 -> 2028 | L3: =Existing!L3 -> 2029 | M3: =Existing!M3 -> 2030 | N3: =Existing!N3 -> 2031 | O3: =Existing!O3 -> 2032 | ... W3: =Existing!W3 -> 2040
A4: Line | E4: Column | H4: 0 | I4: 1 | J4: =I4+1 -> 2 | K4: =J4+1 -> 3 | L4: =K4+1 -> 4 | M4: =L4+1 -> 5 | N4: =M4+1 -> 6 | O4: =N4+1 -> 7 | P4: =O4+1 -> 8 | Q4: =P4+1 -> 9 | ... W4: =V4+1 -> 15
C6: Forecast Assumptions:
A7: 1 | D7: In-Service Year (yyyy) | F7: 2022
A8: =A7+1 -> 2 | D8: Capital Expenditures (nominal $ millions) | H8: 0 | I8: 0 | J8: 0 | K8: 0 | L8: 0 | M8: 0 | N8: 0 | O8: 0 | P8: 0 | Q8: 0 | R8: 0 | S8: 0 | T8: 0 | U8: 0 | V8: 0 | W8: 0
A10: =A8+1 -> 3 | D10: CWIP Carrying Cost (IDC or AFUDC) | F10: AFUDC
A11: =A10+1 -> 4 | D11: CWIP in Rate Base (Y or N) | F11: Y
A13: =A11+1 -> 5 | D13: Depreciation Rate (%) | F13: 0.025 | H13: =$F13 -> 0.025 | I13: =$F13 -> 0.025 | J13: =$F13 -> 0.025 | K13: =$F13 -> 0.025 | L13: =$F13 -> 0.025 | M13: =$F13 -> 0.025 | N13: =$F13 -> 0.025 | O13: =$F13 -> 0.025 | ... W13: =$F13 -> 0.025
A15: =A13+1 -> 6 | D15: Debt (% of Capital) | F15: 0.5 | I15: =$F15 -> 0.5 | J15: =$F15 -> 0.5 | K15: =$F15 -> 0.5 | L15: =$F15 -> 0.5 | M15: =$F15 -> 0.5 | N15: =$F15 -> 0.5 | O15: =$F15 -> 0.5 | P15: =$F15 -> 0.5 | ... W15: =$F15 -> 0.5
A16: =A15+1 -> 7 | D16: Cost of Debt (%) | F16: 0.06 | I16: =$F16 -> 0.06 | J16: =$F16 -> 0.06 | K16: =$F16 -> 0.06 | L16: =$F16 -> 0.06 | M16: =$F16 -> 0.06 | N16: =$F16 -> 0.06 | O16: =$F16 -> 0.06 | P16: =$F16 -> 0.06 | ... W16: =$F16 -> 0.06
A18: =A16+1 -> 8 | D18: Equity (% of Capital) | I18: =1-I15 -> 0.5 | J18: =1-J15 -> 0.5 | K18: =1-K15 -> 0.5 | L18: =1-L15 -> 0.5 | M18: =1-M15 -> 0.5 | N18: =1-N15 -> 0.5 | O18: =1-O15 -> 0.5 | P18: =1-P15 -> 0.5 | ... W18: =1-W15 -> 0.5
A19: =A18+1 -> 9 | D19: Cost of Equity (%) | F19: 0.11 | I19: =$F19 -> 0.11 | J19: =$F19 -> 0.11 | K19: =$F19 -> 0.11 | L19: =$F19 -> 0.11 | M19: =$F19 -> 0.11 | N19: =$F19 -> 0.11 | O19: =$F19 -> 0.11 | P19: =$F19 -> 0.11 | ... W19: =$F19 -> 0.11
A21: =A19+1 -> 10 | D21: Average Return Rate | I21: =I15*I16+I18*I19 -> 0.085 | J21: =J15*J16+J18*J19 -> 0.085 | K21: =K15*K16+K18*K19 -> 0.085 | L21: =L15*L16+L18*L19 -> 0.085 | M21: =M15*M16+M18*M19 -> 0.085 | N21: =N15*N16+N18*N19 -> 0.085 | O21: =O15*O16+O18*O19 -> 0.085 | P21: =P15*P16+P18*P19 -> 0.085 | ... W21: =W15*W16+W18*W19 -> 0.085
A23: =A21+1 -> 11 | D23: Federal Income Tax (MACRS 15-year) | I23: 0.05 | J23: =MAX(0.1*(1-SUM($I23:I23)),(1-SUM($I23:I23))/(16.5-J4)) -> 0.095 | K23: =MAX(0.1*(1-SUM($I23:J23)),(1-SUM($I23:J23))/(16.5-K4)) -> 0.0855 | L23: =MAX(0.1*(1-SUM($I23:K23)),(1-SUM($I23:K23))/(16.5-L4)) -> 0.07695 | M23: =MAX(0.1*(1-SUM($I23:L23)),(1-SUM($I23:L23))/(16.5-M4)) -> 0.069255 | N23: =MAX(0.1*(1-SUM($I23:M23)),(1-SUM($I23:M23))/(16.5-N4)) -> 0.0623295 | O23: =MAX(0.1*(1-SUM($I23:N23)),(1-SUM($I23:N23))/(16.5-O4)) -> 0.059049 | P23: =MAX(0.1*(1-SUM($I23:O23)),(1-SUM($I23:O23))/(16.5-P4)) -> 0.059049 | Q23: =MAX(0.1*(1-SUM($I23:P23)),(1-SUM($I23:P23))/(16.5-Q4)) -> 0.059049 | ... W23: =MAX(0.1*(1-SUM($I23:V23)),(1-SUM($I23:V23))/(16.5-W4)) -> 0.059049 | X23: =MAX(0.1*(1-SUM($I23:W23)),(1-SUM($I23:W23))/0.5)/2 -> 0.0295245
A24: =A23+1 -> 12 | D24: Deferred Federal Income Tax (Y or N) | F24: Y
A25: =A24+1 -> 13 | D25: Federal Income Tax Rate (%) | F25: 0.21 | H25: =$F25 -> 0.21 | I25: =$F25 -> 0.21 | J25: =$F25 -> 0.21 | K25: =$F25 -> 0.21 | L25: =$F25 -> 0.21 | M25: =$F25 -> 0.21 | N25: =$F25 -> 0.21 | O25: =$F25 -> 0.21 | ... W25: =$F25 -> 0.21
A27: =A25+1 -> 14 | D27: State Income Tax Declining Balance (%) | F27: 2
A28: =A27+1 -> 15 | D28: Deferred State Income Tax (Y or N) | F28: Y
A29: =A28+1 -> 16 | D29: State Income Tax Rate | F29: 0.0884 | H29: =$F29 -> 0.0884 | I29: =$F29 -> 0.0884 | J29: =$F29 -> 0.0884 | K29: =$F29 -> 0.0884 | L29: =$F29 -> 0.0884 | M29: =$F29 -> 0.0884 | N29: =$F29 -> 0.0884 | O29: =$F29 -> 0.0884 | ... W29: =$F29 -> 0.0884
A31: =A29+1 -> 17 | D31: O&M (% of Capital Additions) | F31: 0.02 | I31: =$F31 -> 0.02 | J31: =$F31 -> 0.02 | K31: =$F31 -> 0.02 | L31: =$F31 -> 0.02 | M31: =$F31 -> 0.02 | N31: =$F31 -> 0.02 | O31: =$F31 -> 0.02 | P31: =$F31 -> 0.02 | ... W31: =$F31 -> 0.02
A32: =A31+1 -> 18 | D32: O&M Escalation Rate (%) | F32: 0.02 | I32: =$F32 -> 0.02 | J32: =$F32 -> 0.02 | K32: =$F32 -> 0.02 | L32: =$F32 -> 0.02 | M32: =$F32 -> 0.02 | N32: =$F32 -> 0.02 | O32: =$F32 -> 0.02 | P32: =$F32 -> 0.02 | ... W32: =$F32 -> 0.02
C34: Construction Work in Progress
A35: =A32+1 -> 19 | D35: Opening Balance | H35: 0 | I35: =H39 -> 0 | J35: =I39 -> 0 | K35: =J39 -> 0 | L35: =K39 -> 0 | M35: =L39 -> 0 | N35: =M39 -> 0 | O35: =N39 -> 0 | P35: =O39 -> 0 | ... W35: =V39 -> 0
A36: =A35+1 -> 20 | D36: Capital Expenditures | H36: =H8 -> 0 | I36: =I8 -> 0 | J36: =J8 -> 0 | K36: =K8 -> 0 | L36: =L8 -> 0 | M36: =M8 -> 0 | N36: =N8 -> 0 | O36: =O8 -> 0 | ... W36: =W8 -> 0
A37: =A36+1 -> 21 | D37: =IF(F11="Y","N/A (CWIP in Rate Base)", IF(F10="IDC","Interest During Construction","AFUDC")) -> N/A (CWIP in Rate Base) | H37: =($F11="N")*((H3<$F7)*(H16*($F10="IDC")+H21*($F10="AFUDC"))*(H35+0.5*H36)+(H3>=$F7)*0.5*H35*(H16*($F10="IDC")+H21*($F10="AFUDC"))/(1+0.5*(H16*($F10="IDC")+H21*($F10="AFUDC")))) -> 0 | I37: =($F11="N")*((I3<$F7)*(I16*($F10="IDC")+I21*($F10="AFUDC"))*(I35+0.5*I36)+(I3>=$F7)*0.5*I35*(I16*($F10="IDC")+I21*($F10="AFUDC"))/(1+0.5*(I16*($F10="IDC")+I21*($F10="AFUDC")))) -> 0 | J37: =($F11="N")*((J3<$F7)*(J16*($F10="IDC")+J21*($F10="AFUDC"))*(J35+0.5*J36)+(J3>=$F7)*0.5*J35*(J16*($F10="IDC")+J21*($F10="AFUDC"))/(1+0.5*(J16*($F10="IDC")+J21*($F10="AFUDC")))) -> 0 | K37: =($F11="N")*((K3<$F7)*(K16*($F10="IDC")+K21*($F10="AFUDC"))*(K35+0.5*K36)+(K3>=$F7)*0.5*K35*(K16*($F10="IDC")+K21*($F10="AFUDC"))/(1+0.5*(K16*($F10="IDC")+K21*($F10="AFUDC")))) -> 0 | L37: =($F11="N")*((L3<$F7)*(L16*($F10="IDC")+L21*($F10="AFUDC"))*(L35+0.5*L36)+(L3>=$F7)*0.5*L35*(L16*($F10="IDC")+L21*($F10="AFUDC"))/(1+0.5*(L16*($F10="IDC")+L21*($F10="AFUDC")))) -> 0 | M37: =($F11="N")*((M3<$F7)*(M16*($F10="IDC")+M21*($F10="AFUDC"))*(M35+0.5*M36)+(M3>=$F7)*0.5*M35*(M16*($F10="IDC")+M21*($F10="AFUDC"))/(1+0.5*(M16*($F10="IDC")+M21*($F10="AFUDC")))) -> 0 | N37: =($F11="N")*((N3<$F7)*(N16*($F10="IDC")+N21*($F10="AFUDC"))*(N35+0.5*N36)+(N3>=$F7)*0.5*N35*(N16*($F10="IDC")+N21*($F10="AFUDC"))/(1+0.5*(N16*($F10="IDC")+N21*($F10="AFUDC")))) -> 0 | O37: =($F11="N")*((O3<$F7)*(O16*($F10="IDC")+O21*($F10="AFUDC"))*(O35+0.5*O36)+(O3>=$F7)*0.5*O35*(O16*($F10="IDC")+O21*($F10="AFUDC"))/(1+0.5*(O16*($F10="IDC")+O21*($F10="AFUDC")))) -> 0 | ... W37: =($F11="N")*((W3<$F7)*(W16*($F10="IDC")+W21*($F10="AFUDC"))*(W35+0.5*W36)+(W3>=$F7)*0.5*W35*(W16*($F10="IDC")+W21*($F10="AFUDC"))/(1+0.5*(W16*($F10="IDC")+W21*($F10="AFUDC")))) -> 0
A38: =A37+1 -> 22 | D38: Capital Additions | H38: =IF(H3>=$F7,-SUM(H35:H37),0) -> 0 | I38: =IF(I3>=$F7,-SUM(I35:I37),0) -> 0 | J38: =IF(J3>=$F7,-SUM(J35:J37),0) -> 0 | K38: =IF(K3>=$F7,-SUM(K35:K37),0) -> 0 | L38: =IF(L3>=$F7,-SUM(L35:L37),0) -> 0 | M38: =IF(M3>=$F7,-SUM(M35:M37),0) -> 0 | N38: =IF(N3>=$F7,-SUM(N35:N37),0) -> 0 | O38: =IF(O3>=$F7,-SUM(O35:O37),0) -> 0 | ... W38: =IF(W3>=$F7,-SUM(W35:W37),0) -> 0
A39: =A38+1 -> 23 | D39: Closing Balance | H39: =SUM(H35:H38) -> 0 | I39: =SUM(I35:I38) -> 0 | J39: =SUM(J35:J38) -> 0 | K39: =SUM(K35:K38) -> 0 | L39: =SUM(L35:L38) -> 0 | M39: =SUM(M35:M38) -> 0 | N39: =SUM(N35:N38) -> 0 | O39: =SUM(O35:O38) -> 0 | ... W39: =SUM(W35:W38) -> 0
A40: =A39+1 -> 24 | D40: Mid-Year Balance | H40: =(H35+H39)/2 -> 0 | I40: =(I35+I39)/2 -> 0 | J40: =(J35+J39)/2 -> 0 | K40: =(K35+K39)/2 -> 0 | L40: =(L35+L39)/2 -> 0 | M40: =(M35+M39)/2 -> 0 | N40: =(N35+N39)/2 -> 0 | O40: =(O35+O39)/2 -> 0 | ... W40: =(W35+W39)/2 -> 0
C42: Gross Plant
A43: =A40+1 -> 25 | D43: Opening Balance | H43: 0 | I43: =H46 -> 0 | J43: =I46 -> 0 | K43: =J46 -> 0 | L43: =K46 -> 0 | M43: =L46 -> 0 | N43: =M46 -> 0 | O43: =N46 -> 0 | P43: =O46 -> 0 | ... W43: =V46 -> 0
